BEGIN:VCALENDAR
VERSION:2.0
PRODID:-//The Lawyers Association of St. Louis - ECPv6.15.19//NONSGML v1.0//EN
CALSCALE:GREGORIAN
METHOD:PUBLISH
X-WR-CALNAME:The Lawyers Association of St. Louis
X-ORIGINAL-URL:https://lawyersassociationofstlouis.org
X-WR-CALDESC:Events for The Lawyers Association of St. Louis
REFRESH-INTERVAL;VALUE=DURATION:PT1H
X-Robots-Tag:noindex
X-PUBLISHED-TTL:PT1H
BEGIN:VTIMEZONE
TZID:America/Chicago
BEGIN:DAYLIGHT
TZOFFSETFROM:-0600
TZOFFSETTO:-0500
TZNAME:CDT
DTSTART:20180311T080000
END:DAYLIGHT
BEGIN:STANDARD
TZOFFSETFROM:-0500
TZOFFSETTO:-0600
TZNAME:CST
DTSTART:20181104T070000
END:STANDARD
BEGIN:DAYLIGHT
TZOFFSETFROM:-0600
TZOFFSETTO:-0500
TZNAME:CDT
DTSTART:20190310T080000
END:DAYLIGHT
BEGIN:STANDARD
TZOFFSETFROM:-0500
TZOFFSETTO:-0600
TZNAME:CST
DTSTART:20191103T070000
END:STANDARD
BEGIN:DAYLIGHT
TZOFFSETFROM:-0600
TZOFFSETTO:-0500
TZNAME:CDT
DTSTART:20200308T080000
END:DAYLIGHT
BEGIN:STANDARD
TZOFFSETFROM:-0500
TZOFFSETTO:-0600
TZNAME:CST
DTSTART:20201101T070000
END:STANDARD
END:VTIMEZONE
BEGIN:VEVENT
DTSTART;TZID=America/Chicago:20190221T170000
DTEND;TZID=America/Chicago:20190221T220000
DTSTAMP:20260420T160900
CREATED:20180926T184020Z
LAST-MODIFIED:20190208T134403Z
UID:746-1550768400-1550786400@lawyersassociationofstlouis.org
SUMMARY:Black History Month Dinner 2019
DESCRIPTION:Our annual Black History Month celebration will be at The Westin Hotel (811 Spruce Street) on Thursday\, February 21. Judge Robin Ransom of the Missouri Court of Appeals\, Eastern District\, and Judge Gloria Reno of the 21st Judicial Circuit will be the featured speakers. \nCost: $55 per person for members of The Lawyers Association and Mound City Bar and $65 for non-members \nSponsorship: $500 and $250 sponsorships are available \nRegister for the Event \n\n\n\n                \n                        Attendee Name*\n                            \n                            \n                                                    \n                                                    First\n                                                \n                            \n                            \n                                                    \n                                                    Last\n                                                \n                            \n                        Attendee Email*\n                            \n                        Attendee Address*    \n                    \n                         \n                                        \n                                        Street Address\n                                    \n                                        \n                                        Address Line 2\n                                    \n                                    \n                                    City\n                                 \n                                        AlabamaAlaskaAmerican SamoaArizonaArkansasCaliforniaColoradoConnecticutDelawareDistrict of ColumbiaFloridaGeorgiaGuamHawaiiIdahoIllinoisIndianaIowaKansasKentuckyLouisianaMaineMarylandMassachusettsMichiganMinnesotaMississippiMissouriMontanaNebraskaNevadaNew HampshireNew JerseyNew MexicoNew YorkNorth CarolinaNorth DakotaNorthern Mariana IslandsOhioOklahomaOregonPennsylvaniaPuerto RicoRhode IslandSouth CarolinaSouth DakotaTennesseeTexasUtahU.S. Virgin IslandsVermontVirginiaWashingtonWest VirginiaWisconsinWyomingArmed Forces AmericasArmed Forces EuropeArmed Forces Pacific\n                                        State\n                                      \n                                    \n                                    ZIP Code\n                                \n                    \n                Attendee PhoneAttendee Law FirmThe Lawyers Association Member Quantity\n					\n					\n						Price:\n						$55.00\n					\n					\n					 Quantity \n				Mound City Bar Member Quantity\n					\n					\n						Price:\n						$55.00\n					\n					\n					 Quantity \n				Non-member Quantity\n					\n					\n						Price:\n						$65.00\n					\n					\n					 Quantity \n				$500 Sponsorship Quantity\n					\n					\n						Price:\n						$500.00\n					\n					\n					 Quantity \n				$250 Sponsorship Quantity\n					\n					\n						Price:\n						$250.00\n					\n					\n					 Quantity \n				Additional Attendee NamesOne per lineTotal\n							$0.00\n							\n						Credit Card\n                                    American ExpressDiscoverMasterCardVisaSupported Credit Cards: American Express\, Discover\, MasterCard\, Visa\n                                    \n                                    Card Number\n                                 \n                                            \n                                                \n                                                    \n                                                       \n                                                           Month010203040506070809101112\n                                                       \n                                                       \n                                                   \n                                                   \n                                                       \n                                                           Year20262027202820292030203120322033203420352036203720382039204020412042204320442045\n                                                       \n                                                       \n                                                       \n                                                \n                                                 Expiration Date\n                                            \n                                                \n                                                 \n                                                Security Code\n                                             \n                                        \n                                            \n                                            Cardholder Name
URL:https://lawyersassociationofstlouis.org/event/black-history-month-dinner-2019/
LOCATION:MO\, United States
CATEGORIES:Social Gatherings
ATTACH;FMTTYPE=image/jpeg:https://lawyersassociationofstlouis.org/wp-content/uploads/2018/09/Black-History-Month-Photo.jpg
END:VEVENT
END:VCALENDAR