BEGIN:VCALENDAR
VERSION:2.0
PRODID:-//The Lawyers Association of St. Louis - ECPv6.15.19//NONSGML v1.0//EN
CALSCALE:GREGORIAN
METHOD:PUBLISH
X-WR-CALNAME:The Lawyers Association of St. Louis
X-ORIGINAL-URL:https://lawyersassociationofstlouis.org
X-WR-CALDESC:Events for The Lawyers Association of St. Louis
REFRESH-INTERVAL;VALUE=DURATION:PT1H
X-Robots-Tag:noindex
X-PUBLISHED-TTL:PT1H
BEGIN:VTIMEZONE
TZID:America/Chicago
BEGIN:DAYLIGHT
TZOFFSETFROM:-0600
TZOFFSETTO:-0500
TZNAME:CDT
DTSTART:20240310T080000
END:DAYLIGHT
BEGIN:STANDARD
TZOFFSETFROM:-0500
TZOFFSETTO:-0600
TZNAME:CST
DTSTART:20241103T070000
END:STANDARD
BEGIN:DAYLIGHT
TZOFFSETFROM:-0600
TZOFFSETTO:-0500
TZNAME:CDT
DTSTART:20250309T080000
END:DAYLIGHT
BEGIN:STANDARD
TZOFFSETFROM:-0500
TZOFFSETTO:-0600
TZNAME:CST
DTSTART:20251102T070000
END:STANDARD
BEGIN:DAYLIGHT
TZOFFSETFROM:-0600
TZOFFSETTO:-0500
TZNAME:CDT
DTSTART:20260308T080000
END:DAYLIGHT
BEGIN:STANDARD
TZOFFSETFROM:-0500
TZOFFSETTO:-0600
TZNAME:CST
DTSTART:20261101T070000
END:STANDARD
END:VTIMEZONE
BEGIN:VEVENT
DTSTART;TZID=America/Chicago:20251121T180000
DTEND;TZID=America/Chicago:20251121T223000
DTSTAMP:20260420T144503
CREATED:20250731T211002Z
LAST-MODIFIED:20251121T191025Z
UID:2226-1763748000-1763764200@lawyersassociationofstlouis.org
SUMMARY:Gridiron
DESCRIPTION:The annual Gridiron Show will be Friday\, November 21\, 2025 at the St. Louis Marriott Grand Hotel at 800 Washington Ave.\n6:00 p.m. Cocktails\n7:00 p.m. Dinner\n8:15 p.m. Show \nIndividual Tickets are $150 per person \nExecutive Producer Sponsor – $3\,000 \n\nPreferred seating for 10 in the 1st or 2nd row (limited to 10 tables)\n4 complimentary bottles of wine\nFull page ad in the program book\nName recognition and/or advertisement on the pre-show slide presentation\n\nSOLD OUT – Writers Roundtable Sponsor – $2\,500 \n\nPreferred seating for 10 in the 3rd or 4th row (limited to 10 tables)\n2 complimentary bottles of wine\nFull page ad in the program book\nName recognition and/or advertisement on the pre-show slide presentation\n\nChorus Line Sponsor – $500 \n\nListing in the program book\nListing in the pre-show slide presentation
URL:https://lawyersassociationofstlouis.org/event/gridiron-4/
LOCATION:St. Louis Marriott Grand Hotel\, 800 Washington Ave.\, Saint Louis\, MO\, United States
END:VEVENT
END:VCALENDAR