BEGIN:VCALENDAR
VERSION:2.0
PRODID:-//The Lawyers Association of St. Louis - ECPv6.15.19//NONSGML v1.0//EN
CALSCALE:GREGORIAN
METHOD:PUBLISH
X-WR-CALNAME:The Lawyers Association of St. Louis
X-ORIGINAL-URL:https://lawyersassociationofstlouis.org
X-WR-CALDESC:Events for The Lawyers Association of St. Louis
REFRESH-INTERVAL;VALUE=DURATION:PT1H
X-Robots-Tag:noindex
X-PUBLISHED-TTL:PT1H
BEGIN:VTIMEZONE
TZID:America/Chicago
BEGIN:DAYLIGHT
TZOFFSETFROM:-0600
TZOFFSETTO:-0500
TZNAME:CDT
DTSTART:20240310T080000
END:DAYLIGHT
BEGIN:STANDARD
TZOFFSETFROM:-0500
TZOFFSETTO:-0600
TZNAME:CST
DTSTART:20241103T070000
END:STANDARD
BEGIN:DAYLIGHT
TZOFFSETFROM:-0600
TZOFFSETTO:-0500
TZNAME:CDT
DTSTART:20250309T080000
END:DAYLIGHT
BEGIN:STANDARD
TZOFFSETFROM:-0500
TZOFFSETTO:-0600
TZNAME:CST
DTSTART:20251102T070000
END:STANDARD
BEGIN:DAYLIGHT
TZOFFSETFROM:-0600
TZOFFSETTO:-0500
TZNAME:CDT
DTSTART:20260308T080000
END:DAYLIGHT
BEGIN:STANDARD
TZOFFSETFROM:-0500
TZOFFSETTO:-0600
TZNAME:CST
DTSTART:20261101T070000
END:STANDARD
END:VTIMEZONE
BEGIN:VEVENT
DTSTART;TZID=America/Chicago:20250925T173000
DTEND;TZID=America/Chicago:20250925T193000
DTSTAMP:20260420T144152
CREATED:20250731T210348Z
LAST-MODIFIED:20250813T222248Z
UID:2222-1758821400-1758828600@lawyersassociationofstlouis.org
SUMMARY:Judicial Appreciation
DESCRIPTION:The Lawyers Association’s annual Judicial Appreciation program will be held on Thursday\, September 25 at Husch Blackwell\, 8001 Forsyth Blvd.\, Suite 1500.  The program will begin at 5:30 p.m.  The Honorable Gary Gaertner\, Jr. of the Missouri Court of Appeals\, Eastern District\, will be honored for his 25 years on the Bench.  Matt Devoti of Casey Devoti Brockland and a Past President of the Lawyers Association\, will be the featured speaker. \nIndividual tickets will cost:\n$70 for LASL Members\n$85 for Non-LASL Members\nFree for members of the Bench \nSponsorships and pricing are:\n$500 Gold Sponsorship – includes 2 tickets to the event and name recognition on evites and at the event.\n$250 Silver Sponsorship – name recognition on evites and at the event. \n\n\n                \n                        \n                            Judicial Appreciation Event Registration 2025\n                             \n                        \n                        Attendee Name*\n                            \n                            \n                                                    \n                                                    First\n                                                \n                            \n                            \n                                                    \n                                                    Last\n                                                \n                            \n                        FirmAttendee Email*\n                            \n                        Attendee PhoneAdditional AttendeesPlease list the name of any additional attendees you're purchasing tickets forLawyers Association Members\n					\n					\n						Price:\n							\n					\n					\n				Lawyers Association Members QuantityNon-Members\n					\n					\n						Price:\n							\n					\n					\n				Non-Members QuantityJudges - FREEQuantitySponsorship CategoriesGold\n					\n					\n						Price:\n							\n					\n					\n				includes 2 tickets to the event and name recognitionQuantitySilver\n					\n					\n						Price:\n							\n					\n					\n				name recognition onlyQuantityThis field is hidden when viewing the formTicketsTotal\n							$0.00\n							\n						Credit Card*Card Details\n					\n					Cardholder Name\n				\n			Billing Zip Code*
URL:https://lawyersassociationofstlouis.org/event/judicial-appreciation-6/
LOCATION:Husch Blackwell\, 8001 Forsyth Blvd.\, Suite 1500\, Saint Louis\, MO\, 63105\, United States
END:VEVENT
END:VCALENDAR