BEGIN:VCALENDAR
VERSION:2.0
PRODID:-//The Lawyers Association of St. Louis - ECPv6.15.19//NONSGML v1.0//EN
CALSCALE:GREGORIAN
METHOD:PUBLISH
X-WR-CALNAME:The Lawyers Association of St. Louis
X-ORIGINAL-URL:https://lawyersassociationofstlouis.org
X-WR-CALDESC:Events for The Lawyers Association of St. Louis
REFRESH-INTERVAL;VALUE=DURATION:PT1H
X-Robots-Tag:noindex
X-PUBLISHED-TTL:PT1H
BEGIN:VTIMEZONE
TZID:America/Chicago
BEGIN:DAYLIGHT
TZOFFSETFROM:-0600
TZOFFSETTO:-0500
TZNAME:CDT
DTSTART:20180311T080000
END:DAYLIGHT
BEGIN:STANDARD
TZOFFSETFROM:-0500
TZOFFSETTO:-0600
TZNAME:CST
DTSTART:20181104T070000
END:STANDARD
BEGIN:DAYLIGHT
TZOFFSETFROM:-0600
TZOFFSETTO:-0500
TZNAME:CDT
DTSTART:20190310T080000
END:DAYLIGHT
BEGIN:STANDARD
TZOFFSETFROM:-0500
TZOFFSETTO:-0600
TZNAME:CST
DTSTART:20191103T070000
END:STANDARD
BEGIN:DAYLIGHT
TZOFFSETFROM:-0600
TZOFFSETTO:-0500
TZNAME:CDT
DTSTART:20200308T080000
END:DAYLIGHT
BEGIN:STANDARD
TZOFFSETFROM:-0500
TZOFFSETTO:-0600
TZNAME:CST
DTSTART:20201101T070000
END:STANDARD
END:VTIMEZONE
BEGIN:VEVENT
DTSTART;TZID=America/Chicago:20190613T160000
DTEND;TZID=America/Chicago:20190613T220000
DTSTAMP:20260420T161015
CREATED:20180926T192553Z
LAST-MODIFIED:20190528T203200Z
UID:764-1560441600-1560463200@lawyersassociationofstlouis.org
SUMMARY:Picnic & Softball Game 2019
DESCRIPTION:Our annual event that culminates with a softball game between the Bench and Bar. A catered lunch and dinner is provided to all that attend. \nSoftball Game will start at 4:30 p.m. City team is captained by Jenny Woulfe. County team is captained by Mike Harrison. Lawyers are the team in the jurisdiction of where they WORK. \nDinner is hamburgers\, hot dogs\, veggie burgers. \nSponsors are $200 (includes 2 tickets to the picnic) or $100 (name recognition only)\, contact Jim Susman for details. \nCost:\n$10 for lawyers\n$10 for Judges\nFREE for law students \nPurchase Tickets \n\n\n\n                \n                        Attendee Name*\n                            \n                            \n                                                    \n                                                    First\n                                                \n                            \n                            \n                                                    \n                                                    Last\n                                                \n                            \n                        Attendee Email*\n                            \n                        Attendee PhoneAttendee Address*    \n                    \n                         \n                                        \n                                        Street Address\n                                    \n                                        \n                                        Address Line 2\n                                    \n                                    \n                                    City\n                                 \n                                        AlabamaAlaskaAmerican SamoaArizonaArkansasCaliforniaColoradoConnecticutDelawareDistrict of ColumbiaFloridaGeorgiaGuamHawaiiIdahoIllinoisIndianaIowaKansasKentuckyLouisianaMaineMarylandMassachusettsMichiganMinnesotaMississippiMissouriMontanaNebraskaNevadaNew HampshireNew JerseyNew MexicoNew YorkNorth CarolinaNorth DakotaNorthern Mariana IslandsOhioOklahomaOregonPennsylvaniaPuerto RicoRhode IslandSouth CarolinaSouth DakotaTennesseeTexasUtahU.S. Virgin IslandsVermontVirginiaWashingtonWest VirginiaWisconsinWyomingArmed Forces AmericasArmed Forces EuropeArmed Forces Pacific\n                                        State\n                                      \n                                    \n                                    ZIP Code\n                                \n                    \n                Attendee Law FirmTicketsLawyers - $20Judges - $10Law Students - FreeTotal\n							$0.00\n							\n						Credit Card\n                                    American ExpressDiscoverMasterCardVisaSupported Credit Cards: American Express\, Discover\, MasterCard\, Visa\n                                    \n                                    Card Number\n                                 \n                                            \n                                                \n                                                    \n                                                       \n                                                           Month010203040506070809101112\n                                                       \n                                                       \n                                                   \n                                                   \n                                                       \n                                                           Year20262027202820292030203120322033203420352036203720382039204020412042204320442045\n                                                       \n                                                       \n                                                       \n                                                \n                                                 Expiration Date\n                                            \n                                                \n                                                 \n                                                Security Code\n                                             \n                                        \n                                            \n                                            Cardholder Name
URL:https://lawyersassociationofstlouis.org/event/picnic-softball-game-2019/
LOCATION:Deer Creek Park\, 3200 N Laclede Station Rd\, Maplewood\, MO\, 63143\, United States
CATEGORIES:Social Gatherings
ATTACH;FMTTYPE=image/jpeg:https://lawyersassociationofstlouis.org/wp-content/uploads/2018/09/Picnic-and-Softball-2019-Promo-Photo.jpg
END:VEVENT
END:VCALENDAR